BEGIN:VCALENDAR
VERSION:2.0
PRODID:-//LEXICON - ECPv6.15.18//NONSGML v1.0//EN
CALSCALE:GREGORIAN
METHOD:PUBLISH
X-WR-CALNAME:LEXICON
X-ORIGINAL-URL:https://lexicon.edu.pk
X-WR-CALDESC:Events for LEXICON
REFRESH-INTERVAL;VALUE=DURATION:PT1H
X-Robots-Tag:noindex
X-PUBLISHED-TTL:PT1H
BEGIN:VTIMEZONE
TZID:UTC
BEGIN:STANDARD
TZOFFSETFROM:+0000
TZOFFSETTO:+0000
TZNAME:UTC
DTSTART:20250101T000000
END:STANDARD
END:VTIMEZONE
BEGIN:VEVENT
DTSTART;TZID=UTC:20260328T080000
DTEND;TZID=UTC:20260328T170000
DTSTAMP:20260422T145742
CREATED:20260312T193016Z
LAST-MODIFIED:20260312T193016Z
UID:19541-1774684800-1774717200@lexicon.edu.pk
SUMMARY:Training Event
DESCRIPTION:Join us for an exclusive Training Event at Lexicon\, designed to provide hands-on experience and professional insights. This session focuses on practical skill development\, industry best practices\, and expert-led guidance to help you excel in your career. \nWhat you will learn: \n\n\nKey concepts and practical applications. \n\n\nIndustry-relevant tools and techniques. \n\n\nExpert strategies to stay ahead in the market. \n\n\nDon’t miss this opportunity to network with professionals and enhance your expertise with Lexicon.
URL:https://lexicon.edu.pk/event/training-event/
LOCATION:Training Event\, Building No. 01\, Street 06\, Main Boulevard\, Jinnah Gardens\, Islamabad\, Pakistan.\, Islamabad\, Pakistan
END:VEVENT
END:VCALENDAR